BEGIN:VCALENDAR
VERSION:2.0
PRODID:icalendar-ruby
CALSCALE:GREGORIAN
METHOD:PUBLISH
BEGIN:VEVENT
DTSTAMP:20260425T231640Z
UID:66f2d5b2-9ce1-492c-9c32-5844638b7bed
DTSTART;VALUE=DATE:20210519
DTEND;VALUE=DATE:20210519
DESCRIPTION:Grand Prix BMX at SoCal Fair
LOCATION:18700 Lake Perris Dr  Perris CA 92571 USA
SUMMARY:Local Race Single
URL:/site/bmx_races/472114
END:VEVENT
END:VCALENDAR
