BEGIN:VCALENDAR
VERSION:2.0
PRODID:icalendar-ruby
CALSCALE:GREGORIAN
METHOD:PUBLISH
BEGIN:VEVENT
DTSTAMP:20260425T011707Z
UID:e550a910-9bc9-42ec-9491-7b6909cbe997
DTSTART;VALUE=DATE:20210716
DTEND;VALUE=DATE:20210716
DESCRIPTION:Duke City BMX
LOCATION:1011 Buena Vista Dr Se  Albuquerque NM 87106 USA
SUMMARY:Local Race Single
URL:/site/bmx_races/471916
END:VEVENT
END:VCALENDAR
