BEGIN:VCALENDAR
VERSION:2.0
PRODID:icalendar-ruby
CALSCALE:GREGORIAN
METHOD:PUBLISH
BEGIN:VEVENT
DTSTAMP:20260424T094843Z
UID:f26acd34-0050-423d-9b1f-ddd426b44783
DTSTART;VALUE=DATE:20210521
DTEND;VALUE=DATE:20210521
DESCRIPTION:Duke City BMX
LOCATION:1011 Buena Vista Dr Se  Albuquerque NM 87106 USA
SUMMARY:Local Race Single
URL:/site/bmx_races/471901
END:VEVENT
END:VCALENDAR
