BEGIN:VCALENDAR
VERSION:2.0
PRODID:icalendar-ruby
CALSCALE:GREGORIAN
METHOD:PUBLISH
BEGIN:VEVENT
DTSTAMP:20260424T190207Z
UID:d102f71e-c486-4dcb-b59d-cea0e5edea71
DTSTART;VALUE=DATE:20210617
DTEND;VALUE=DATE:20210617
DESCRIPTION:Capital City BMX
LOCATION:516 Dennis Ave  Raleigh NC 27604 USA
SUMMARY:Local Race Single
URL:/site/bmx_races/471866
END:VEVENT
END:VCALENDAR
