BEGIN:VCALENDAR
VERSION:2.0
PRODID:icalendar-ruby
CALSCALE:GREGORIAN
METHOD:PUBLISH
BEGIN:VEVENT
DTSTAMP:20260425T011536Z
UID:96d8de8c-3b12-4826-bc2b-95c863fcdee3
DTSTART;VALUE=DATE:20210511
DTEND;VALUE=DATE:20210511
DESCRIPTION:Yuma BMX
LOCATION:3067 S Pacific Ave  Yuma AZ 85364 USA
SUMMARY:Local Race Single
URL:/site/bmx_races/471700
END:VEVENT
END:VCALENDAR
