BEGIN:VCALENDAR
VERSION:2.0
PRODID:icalendar-ruby
CALSCALE:GREGORIAN
METHOD:PUBLISH
BEGIN:VEVENT
DTSTAMP:20260424T230529Z
UID:90e01a08-b3e9-4081-9b92-4151af396808
DTSTART;VALUE=DATE:20210908
DTEND;VALUE=DATE:20210908
DESCRIPTION:Yuma BMX
LOCATION:3067 S Pacific Ave  Yuma AZ 85364 USA
SUMMARY:Local Race Single
URL:/site/bmx_races/471324
END:VEVENT
END:VCALENDAR
