BEGIN:VCALENDAR
VERSION:2.0
PRODID:icalendar-ruby
CALSCALE:GREGORIAN
METHOD:PUBLISH
BEGIN:VEVENT
DTSTAMP:20260424T154632Z
UID:c5de97ba-10b4-4130-94ff-a68708f9235b
DTSTART;VALUE=DATE:20210329
DTEND;VALUE=DATE:20210329
DESCRIPTION:Cactus Park BMX
LOCATION:10610 Ashwood St  Lakeside CA 92040 USA
SUMMARY:Local Race Single
URL:/site/bmx_races/471287
END:VEVENT
END:VCALENDAR
