BEGIN:VCALENDAR
VERSION:2.0
PRODID:icalendar-ruby
CALSCALE:GREGORIAN
METHOD:PUBLISH
BEGIN:VEVENT
DTSTAMP:20260424T220410Z
UID:dfa879e9-381d-4739-997e-3041b674feca
DTSTART;VALUE=DATE:20210516
DTEND;VALUE=DATE:20210516
DESCRIPTION:Wakefield BMX
LOCATION:Sullivan Park  Wakefield MA 01833 USA
SUMMARY:Local Race Single
URL:/site/bmx_races/471278
END:VEVENT
END:VCALENDAR
