BEGIN:VCALENDAR
VERSION:2.0
PRODID:icalendar-ruby
CALSCALE:GREGORIAN
METHOD:PUBLISH
BEGIN:VEVENT
DTSTAMP:20260424T125333Z
UID:8431882f-e6c4-443e-901a-b88d9444c9aa
DTSTART;VALUE=DATE:20210902
DTEND;VALUE=DATE:20210902
DESCRIPTION:Rum River BMX
LOCATION:Isanti Parkway Northwest  Isanti MN 55040 USA
SUMMARY:Local Race Single
URL:/site/bmx_races/471274
END:VEVENT
END:VCALENDAR
