BEGIN:VCALENDAR
VERSION:2.0
PRODID:icalendar-ruby
CALSCALE:GREGORIAN
METHOD:PUBLISH
BEGIN:VEVENT
DTSTAMP:20260424T233935Z
UID:9a01e55a-646d-4998-9761-47895cdfe8d9
DTSTART;VALUE=DATE:20210612
DTEND;VALUE=DATE:20210612
DESCRIPTION:Cajun BMX Park
LOCATION:301 Rue Fosse  Lafayette LA 70508 USA
SUMMARY:BMX Registration Day Single
URL:/site/bmx_races/470822
END:VEVENT
END:VCALENDAR
