BEGIN:VCALENDAR
VERSION:2.0
PRODID:icalendar-ruby
CALSCALE:GREGORIAN
METHOD:PUBLISH
BEGIN:VEVENT
DTSTAMP:20260425T134751Z
UID:861cc45a-6a92-40e1-a128-8ab654ead8ca
DTSTART;VALUE=DATE:20220722
DTEND;VALUE=DATE:20220722
DESCRIPTION:Desoto BMX
LOCATION:Grimes Park 500 E. Centre Park Blvd Desoto TX 75115 USA
SUMMARY:Local Race Single
URL:/site/bmx_races/470161
END:VEVENT
END:VCALENDAR
