BEGIN:VCALENDAR
VERSION:2.0
PRODID:icalendar-ruby
CALSCALE:GREGORIAN
METHOD:PUBLISH
BEGIN:VEVENT
DTSTAMP:20260424T185731Z
UID:7164a830-7a0f-4dc5-b82b-c87f7cebce47
DTSTART;VALUE=DATE:20220716
DTEND;VALUE=DATE:20220716
DESCRIPTION:Desoto BMX
LOCATION:Grimes Park 500 E. Centre Park Blvd Desoto TX 75115 USA
SUMMARY:Local Race Single
URL:/site/bmx_races/470160
END:VEVENT
END:VCALENDAR
