BEGIN:VCALENDAR
VERSION:2.0
PRODID:icalendar-ruby
CALSCALE:GREGORIAN
METHOD:PUBLISH
BEGIN:VEVENT
DTSTAMP:20260424T172222Z
UID:4a76df61-5a8f-44a2-8d31-9c2fd0cadd27
DTSTART;VALUE=DATE:20210417
DTEND;VALUE=DATE:20210417
DESCRIPTION:Whittier Narrows BMX
LOCATION:1601 N Rosemead Blvd  South El Monte CA 91733 USA
SUMMARY:Local Race Single
URL:/site/bmx_races/470056
END:VEVENT
END:VCALENDAR
