BEGIN:VCALENDAR
VERSION:2.0
PRODID:icalendar-ruby
CALSCALE:GREGORIAN
METHOD:PUBLISH
BEGIN:VEVENT
DTSTAMP:20260425T202212Z
UID:909369db-747c-4478-869b-2d01b03bd73b
DTSTART;VALUE=DATE:20210612
DTEND;VALUE=DATE:20210612
DESCRIPTION:Triple Creek BMX
LOCATION:12705 Balm Boyette Rd  Riverview FL 33579 USA
SUMMARY:Local Race Single
URL:/site/bmx_races/469276
END:VEVENT
END:VCALENDAR
