BEGIN:VCALENDAR
VERSION:2.0
PRODID:icalendar-ruby
CALSCALE:GREGORIAN
METHOD:PUBLISH
BEGIN:VEVENT
DTSTAMP:20260425T011747Z
UID:81ce4b0f-0a41-44a8-a3c7-9ba41164587a
DTSTART;VALUE=DATE:20210419
DTEND;VALUE=DATE:20210419
DESCRIPTION:Yucca Valley BMX
LOCATION:6989 Sage Ave  Yucca Valley CA 92234 USA
SUMMARY:Local Race Single
URL:/site/bmx_races/469203
END:VEVENT
END:VCALENDAR
