BEGIN:VCALENDAR
VERSION:2.0
PRODID:icalendar-ruby
CALSCALE:GREGORIAN
METHOD:PUBLISH
BEGIN:VEVENT
DTSTAMP:20260424T150644Z
UID:01630a85-ba02-4dc4-b0a7-85a42cafb0c2
DTSTART;VALUE=DATE:20210411
DTEND;VALUE=DATE:20210411
DESCRIPTION:Desert Downs BMX
LOCATION:8801 Railroad  El Paso TX 79924 USA
SUMMARY:Local Race Single
URL:/site/bmx_races/468868
END:VEVENT
END:VCALENDAR
