BEGIN:VCALENDAR
VERSION:2.0
PRODID:icalendar-ruby
CALSCALE:GREGORIAN
METHOD:PUBLISH
BEGIN:VEVENT
DTSTAMP:20260425T011708Z
UID:14477b9d-66ef-4b46-889c-570d474b9072
DTSTART;VALUE=DATE:20210803
DTEND;VALUE=DATE:20210803
DESCRIPTION:Westmoreland BMX
LOCATION:200 Park Road  Apollo PA 15613 USA
SUMMARY:Local Race Single
URL:/site/bmx_races/468175
END:VEVENT
END:VCALENDAR
