BEGIN:VCALENDAR
VERSION:2.0
PRODID:icalendar-ruby
CALSCALE:GREGORIAN
METHOD:PUBLISH
BEGIN:VEVENT
DTSTAMP:20260424T172226Z
UID:037223e5-b940-4708-b488-5dc3cb8be328
DTSTART;VALUE=DATE:20210514
DTEND;VALUE=DATE:20210514
DESCRIPTION:Katy BMX
LOCATION:4603 Schlipf Rd  Katy TX 77493 USA
SUMMARY:Race for Life Single
URL:/site/bmx_races/467806
END:VEVENT
END:VCALENDAR
