BEGIN:VCALENDAR
VERSION:2.0
PRODID:icalendar-ruby
CALSCALE:GREGORIAN
METHOD:PUBLISH
BEGIN:VEVENT
DTSTAMP:20260424T190118Z
UID:40e27397-94ba-46b7-83ae-378f37444922
DTSTART;VALUE=DATE:20211118
DTEND;VALUE=DATE:20211118
DESCRIPTION:Ed Fountain Park BMX Raceway
LOCATION:1400 N Decatur Blvd  Las Vegas NV 89108 USA
SUMMARY:Local Race Single
URL:/site/bmx_races/467454
END:VEVENT
END:VCALENDAR
