BEGIN:VCALENDAR
VERSION:2.0
PRODID:icalendar-ruby
CALSCALE:GREGORIAN
METHOD:PUBLISH
BEGIN:VEVENT
DTSTAMP:20260424T234902Z
UID:a9790931-b216-4fac-9250-d6d5c6804c71
DTSTART;VALUE=DATE:20210405
DTEND;VALUE=DATE:20210405
DESCRIPTION:Cactus Park BMX
LOCATION:10610 Ashwood St  Lakeside CA 92040 USA
SUMMARY:Local Race Single
URL:/site/bmx_races/467379
END:VEVENT
END:VCALENDAR
