BEGIN:VCALENDAR
VERSION:2.0
PRODID:icalendar-ruby
CALSCALE:GREGORIAN
METHOD:PUBLISH
BEGIN:VEVENT
DTSTAMP:20260424T144010Z
UID:2f3ca183-f01a-44db-ac4b-707e206bca71
DTSTART;VALUE=DATE:20210410
DTEND;VALUE=DATE:20210410
DESCRIPTION:Wild Chile BMX
LOCATION:1600 East Hadley Ave  Las Cruces NM 88001 USA
SUMMARY:Local Race Single
URL:/site/bmx_races/467266
END:VEVENT
END:VCALENDAR
