BEGIN:VCALENDAR
VERSION:2.0
PRODID:icalendar-ruby
CALSCALE:GREGORIAN
METHOD:PUBLISH
BEGIN:VEVENT
DTSTAMP:20260424T094249Z
UID:369cecdb-0c9a-4747-878c-ea9b7f9a9525
DTSTART;VALUE=DATE:20210322
DTEND;VALUE=DATE:20210322
DESCRIPTION:Wild Chile BMX
LOCATION:1600 East Hadley Ave  Las Cruces NM 88001 USA
SUMMARY:Local Race Single
URL:/site/bmx_races/467259
END:VEVENT
END:VCALENDAR
