BEGIN:VCALENDAR
VERSION:2.0
PRODID:icalendar-ruby
CALSCALE:GREGORIAN
METHOD:PUBLISH
BEGIN:VEVENT
DTSTAMP:20260424T105803Z
UID:79498dca-32a1-4a12-bc8a-9aed6d474a11
DTSTART;VALUE=DATE:20210315
DTEND;VALUE=DATE:20210315
DESCRIPTION:Wild Chile BMX
LOCATION:1600 East Hadley Ave  Las Cruces NM 88001 USA
SUMMARY:Local Race Single
URL:/site/bmx_races/467256
END:VEVENT
END:VCALENDAR
