BEGIN:VCALENDAR
VERSION:2.0
PRODID:icalendar-ruby
CALSCALE:GREGORIAN
METHOD:PUBLISH
BEGIN:VEVENT
DTSTAMP:20260424T220407Z
UID:b40ce8ff-4aa1-4b35-9fa0-da38e2e1df37
DTSTART;VALUE=DATE:20210709
DTEND;VALUE=DATE:20210709
DESCRIPTION:North Washington BMX
LOCATION:5022 Guide Meridian  Bellingham WA 98226 USA
SUMMARY:Local Race Single
URL:/site/bmx_races/467129
END:VEVENT
END:VCALENDAR
