BEGIN:VCALENDAR
VERSION:2.0
PRODID:icalendar-ruby
CALSCALE:GREGORIAN
METHOD:PUBLISH
BEGIN:VEVENT
DTSTAMP:20260424T115714Z
UID:38b17a80-6c6b-4142-9271-4d064e335d81
DTSTART;VALUE=DATE:20210324
DTEND;VALUE=DATE:20210324
DESCRIPTION:Yuma BMX
LOCATION:3067 S Pacific Ave  Yuma AZ 85364 USA
SUMMARY:Local Race Single
URL:/site/bmx_races/466963
END:VEVENT
END:VCALENDAR
