BEGIN:VCALENDAR
VERSION:2.0
PRODID:icalendar-ruby
CALSCALE:GREGORIAN
METHOD:PUBLISH
BEGIN:VEVENT
DTSTAMP:20260425T113722Z
UID:051cc496-b986-40fb-92c1-7d105ea316a3
DTSTART;VALUE=DATE:20211112
DTEND;VALUE=DATE:20211112
DESCRIPTION:Cowtown BMX
LOCATION:447 Haltom Rd  Ft. Worth TX 76117 USA
SUMMARY:Local Race Single
URL:/site/bmx_races/466540
END:VEVENT
END:VCALENDAR
