BEGIN:VCALENDAR
VERSION:2.0
PRODID:icalendar-ruby
CALSCALE:GREGORIAN
METHOD:PUBLISH
BEGIN:VEVENT
DTSTAMP:20260425T025705Z
UID:06c851c4-7aac-4123-b921-6de6a4ffbbc5
DTSTART;VALUE=DATE:20211010
DTEND;VALUE=DATE:20211010
DESCRIPTION:Rapid City BMX
LOCATION:626 E Fairmont Blvd  Rapid City SD 57701 USA
SUMMARY:Local Race Single
URL:/site/bmx_races/466118
END:VEVENT
END:VCALENDAR
