BEGIN:VCALENDAR
VERSION:2.0
PRODID:icalendar-ruby
CALSCALE:GREGORIAN
METHOD:PUBLISH
BEGIN:VEVENT
DTSTAMP:20260425T024635Z
UID:7dd04210-aea5-4191-b515-0199941af097
DTSTART;VALUE=DATE:20210815
DTEND;VALUE=DATE:20210815
DESCRIPTION:Drake Well BMX
LOCATION:516 Allen St  Titusville PA 16354 USA
SUMMARY:Local Race Single
URL:/site/bmx_races/465835
END:VEVENT
END:VCALENDAR
