BEGIN:VCALENDAR
VERSION:2.0
PRODID:icalendar-ruby
CALSCALE:GREGORIAN
METHOD:PUBLISH
BEGIN:VEVENT
DTSTAMP:20260425T010654Z
UID:d86a272d-4c9a-4622-8c2f-680e82191d1f
DTSTART;VALUE=DATE:20210318
DTEND;VALUE=DATE:20210318
DESCRIPTION:Cactus Park BMX
LOCATION:10610 Ashwood St  Lakeside CA 92040 USA
SUMMARY:Local Race Single
URL:/site/bmx_races/465779
END:VEVENT
END:VCALENDAR
