BEGIN:VCALENDAR
VERSION:2.0
PRODID:icalendar-ruby
CALSCALE:GREGORIAN
METHOD:PUBLISH
BEGIN:VEVENT
DTSTAMP:20260424T154515Z
UID:ea5225d7-e881-4188-93e7-d84425deb74f
DTSTART;VALUE=DATE:20210708
DTEND;VALUE=DATE:20210708
DESCRIPTION:Hire Park BMX
LOCATION:750 E Arthur St  Warsaw IN 46580 USA
SUMMARY:Local Race Single
URL:/site/bmx_races/465465
END:VEVENT
END:VCALENDAR
