BEGIN:VCALENDAR
VERSION:2.0
PRODID:icalendar-ruby
CALSCALE:GREGORIAN
METHOD:PUBLISH
BEGIN:VEVENT
DTSTAMP:20260424T131247Z
UID:94a4d085-8a62-4509-8096-5df6e19ae977
DTSTART;VALUE=DATE:20210603
DTEND;VALUE=DATE:20210603
DESCRIPTION:Hire Park BMX
LOCATION:750 E Arthur St  Warsaw IN 46580 USA
SUMMARY:Local Race Single
URL:/site/bmx_races/465456
END:VEVENT
END:VCALENDAR
