BEGIN:VCALENDAR
VERSION:2.0
PRODID:icalendar-ruby
CALSCALE:GREGORIAN
METHOD:PUBLISH
BEGIN:VEVENT
DTSTAMP:20260424T091857Z
UID:31ce2fb6-a654-49e6-b0a7-98b6a4e90b04
DTSTART;VALUE=DATE:20210501
DTEND;VALUE=DATE:20210501
DESCRIPTION:Hire Park BMX
LOCATION:750 E Arthur St  Warsaw IN 46580 USA
SUMMARY:Local Race Single
URL:/site/bmx_races/465421
END:VEVENT
END:VCALENDAR
