BEGIN:VCALENDAR
VERSION:2.0
PRODID:icalendar-ruby
CALSCALE:GREGORIAN
METHOD:PUBLISH
BEGIN:VEVENT
DTSTAMP:20260425T125452Z
UID:9dcc1fa6-8a5c-4069-b697-aa5bb6048137
DTSTART;VALUE=DATE:20210919
DTEND;VALUE=DATE:20210919
DESCRIPTION:Klamath Falls BMX
LOCATION:3868 Anderson Ave  Klamath Falls OR 97603 USA
SUMMARY:Local Race Single
URL:/site/bmx_races/465189
END:VEVENT
END:VCALENDAR
