BEGIN:VCALENDAR
VERSION:2.0
PRODID:icalendar-ruby
CALSCALE:GREGORIAN
METHOD:PUBLISH
BEGIN:VEVENT
DTSTAMP:20260424T234004Z
UID:226ba2bd-2a8f-48a7-9325-1556c3880b97
DTSTART;VALUE=DATE:20210308
DTEND;VALUE=DATE:20210308
DESCRIPTION:Cactus Park BMX
LOCATION:10610 Ashwood St  Lakeside CA 92040 USA
SUMMARY:Local Race Single
URL:/site/bmx_races/464807
END:VEVENT
END:VCALENDAR
