BEGIN:VCALENDAR
VERSION:2.0
PRODID:icalendar-ruby
CALSCALE:GREGORIAN
METHOD:PUBLISH
BEGIN:VEVENT
DTSTAMP:20260424T190106Z
UID:c6c26a53-d232-44dc-bdde-b41f6f320e71
DTSTART;VALUE=DATE:20210729
DTEND;VALUE=DATE:20210729
DESCRIPTION:Aberdeen Hub Area BMX
LOCATION:1111 1st Ave Se  Aberdeen SD 57401 USA
SUMMARY:Local Race Single
URL:/site/bmx_races/464393
END:VEVENT
END:VCALENDAR
