BEGIN:VCALENDAR
VERSION:2.0
PRODID:icalendar-ruby
CALSCALE:GREGORIAN
METHOD:PUBLISH
BEGIN:VEVENT
DTSTAMP:20260424T220409Z
UID:63402792-60fd-42bf-b121-bf173ea32c7a
DTSTART;VALUE=DATE:20210725
DTEND;VALUE=DATE:20210725
DESCRIPTION:Aberdeen Hub Area BMX
LOCATION:1111 1st Ave Se  Aberdeen SD 57401 USA
SUMMARY:Local Race Single
URL:/site/bmx_races/464392
END:VEVENT
END:VCALENDAR
