BEGIN:VCALENDAR
VERSION:2.0
PRODID:icalendar-ruby
CALSCALE:GREGORIAN
METHOD:PUBLISH
BEGIN:VEVENT
DTSTAMP:20260424T184633Z
UID:a8f2d21e-1b32-47f9-97ff-dacc85f1d4f9
DTSTART;VALUE=DATE:20210213
DTEND;VALUE=DATE:20210213
DESCRIPTION:Interstate BMX
LOCATION:2600 Fairgrounds Blvd  Kingman AZ 86401 USA
SUMMARY:Local Race Single
URL:/site/bmx_races/464191
END:VEVENT
END:VCALENDAR
