BEGIN:VCALENDAR
VERSION:2.0
PRODID:icalendar-ruby
CALSCALE:GREGORIAN
METHOD:PUBLISH
BEGIN:VEVENT
DTSTAMP:20260426T004520Z
UID:91b49b8a-89fa-4543-bae4-4d91a89bb198
DTSTART;VALUE=DATE:20210502
DTEND;VALUE=DATE:20210502
DESCRIPTION:Molalla River BMX
LOCATION:920 Toliver Rd  Molalla OR 97038 USA
SUMMARY:Local Race Single
URL:/site/bmx_races/464124
END:VEVENT
END:VCALENDAR
