BEGIN:VCALENDAR
VERSION:2.0
PRODID:icalendar-ruby
CALSCALE:GREGORIAN
METHOD:PUBLISH
BEGIN:VEVENT
DTSTAMP:20260424T091954Z
UID:7d37e47e-e9b0-4dc1-be74-7edcb598e7f5
DTSTART;VALUE=DATE:20210507
DTEND;VALUE=DATE:20210507
DESCRIPTION:Katy BMX
LOCATION:4603 Schlipf Rd  Katy TX 77493 USA
SUMMARY:Local Race Single
URL:/site/bmx_races/463931
END:VEVENT
END:VCALENDAR
