BEGIN:VCALENDAR
VERSION:2.0
PRODID:icalendar-ruby
CALSCALE:GREGORIAN
METHOD:PUBLISH
BEGIN:VEVENT
DTSTAMP:20260424T131259Z
UID:4dc3598b-9ce4-4a80-820e-3cb4cb98a8b6
DTSTART;VALUE=DATE:20210623
DTEND;VALUE=DATE:20210623
DESCRIPTION:MadTown BMX
LOCATION:6996 Hickory Lane  Deforest WI 53532 USA
SUMMARY:Local Race Single
URL:/site/bmx_races/463878
END:VEVENT
END:VCALENDAR
