BEGIN:VCALENDAR
VERSION:2.0
PRODID:icalendar-ruby
CALSCALE:GREGORIAN
METHOD:PUBLISH
BEGIN:VEVENT
DTSTAMP:20260424T113651Z
UID:42681497-be83-422b-bb5b-dba5a379bca6
DTSTART;VALUE=DATE:20210223
DTEND;VALUE=DATE:20210223
DESCRIPTION:Apple Valley BMX Moto Park
LOCATION:24320 Highway 18  Apple Valley CA 92307 USA
SUMMARY:Local Race Single
URL:/site/bmx_races/463841
END:VEVENT
END:VCALENDAR
