BEGIN:VCALENDAR
VERSION:2.0
PRODID:icalendar-ruby
CALSCALE:GREGORIAN
METHOD:PUBLISH
BEGIN:VEVENT
DTSTAMP:20260424T233823Z
UID:e8dec556-de27-4525-872b-388f7bede3b8
DTSTART;VALUE=DATE:20210608
DTEND;VALUE=DATE:20210608
DESCRIPTION:Southern Maryland BMX
LOCATION:26600 Budds Creek Rd  Mechanicsville MD 20659 USA
SUMMARY:Local Race Single
URL:/site/bmx_races/463497
END:VEVENT
END:VCALENDAR
