BEGIN:VCALENDAR
VERSION:2.0
PRODID:icalendar-ruby
CALSCALE:GREGORIAN
METHOD:PUBLISH
BEGIN:VEVENT
DTSTAMP:20260424T113656Z
UID:b88fef87-b621-47aa-b21f-9c5efceaab9d
DTSTART;VALUE=DATE:20210911
DTEND;VALUE=DATE:20210911
DESCRIPTION:Grand Valley BMX
LOCATION:2785 U.S. Highway 50  Grand Junction CO 81503 USA
SUMMARY:State Pre-Race Double
URL:/site/bmx_races/463330
END:VEVENT
END:VCALENDAR
