BEGIN:VCALENDAR
VERSION:2.0
PRODID:icalendar-ruby
CALSCALE:GREGORIAN
METHOD:PUBLISH
BEGIN:VEVENT
DTSTAMP:20260424T165108Z
UID:d77228fb-e79d-47dd-b473-7372c60703c6
DTSTART;VALUE=DATE:20210619
DTEND;VALUE=DATE:20210619
DESCRIPTION:Moses Lake BMX
LOCATION:610 Yakima Ave  Moses Lake WA 98837 USA
SUMMARY:Local Race Single
URL:/site/bmx_races/463240
END:VEVENT
END:VCALENDAR
