BEGIN:VCALENDAR
VERSION:2.0
PRODID:icalendar-ruby
CALSCALE:GREGORIAN
METHOD:PUBLISH
BEGIN:VEVENT
DTSTAMP:20260425T011741Z
UID:2c6ee7b7-d147-4149-9231-8de68db1634e
DTSTART;VALUE=DATE:20210217
DTEND;VALUE=DATE:20210217
DESCRIPTION:Yucca Valley BMX
LOCATION:6989 Sage Ave  Yucca Valley CA 92234 USA
SUMMARY:Local Race Single
URL:/site/bmx_races/463223
END:VEVENT
END:VCALENDAR
