BEGIN:VCALENDAR
VERSION:2.0
PRODID:icalendar-ruby
CALSCALE:GREGORIAN
METHOD:PUBLISH
BEGIN:VEVENT
DTSTAMP:20260424T190307Z
UID:9864f426-133b-429f-80c8-7ce94118d3ff
DTSTART;VALUE=DATE:20210215
DTEND;VALUE=DATE:20210215
DESCRIPTION:Cactus Park BMX
LOCATION:10610 Ashwood St  Lakeside CA 92040 USA
SUMMARY:Local Race Single
URL:/site/bmx_races/463107
END:VEVENT
END:VCALENDAR
