BEGIN:VCALENDAR
VERSION:2.0
PRODID:icalendar-ruby
CALSCALE:GREGORIAN
METHOD:PUBLISH
BEGIN:VEVENT
DTSTAMP:20260425T024532Z
UID:086df35b-784b-46da-9476-c4b755de4166
DTSTART;VALUE=DATE:20211003
DTEND;VALUE=DATE:20211003
DESCRIPTION:Lincoln Park BMX
LOCATION:South L St & W. Lauridsen Blvd  Port Angeles WA 98362 USA
SUMMARY:Warnicke Double
URL:/site/bmx_races/463098
END:VEVENT
END:VCALENDAR
