BEGIN:VCALENDAR
VERSION:2.0
PRODID:icalendar-ruby
CALSCALE:GREGORIAN
METHOD:PUBLISH
BEGIN:VEVENT
DTSTAMP:20260424T120344Z
UID:5d1718c2-a26c-456f-97a6-58c9818f982d
DTSTART;VALUE=DATE:20210113
DTEND;VALUE=DATE:20210113
DESCRIPTION:Yuma BMX
LOCATION:3067 S Pacific Ave  Yuma AZ 85364 USA
SUMMARY:Local Race Single
URL:/site/bmx_races/462750
END:VEVENT
END:VCALENDAR
