BEGIN:VCALENDAR
VERSION:2.0
PRODID:icalendar-ruby
CALSCALE:GREGORIAN
METHOD:PUBLISH
BEGIN:VEVENT
DTSTAMP:20260425T142006Z
UID:d6f449c6-bfb0-44db-a693-2559b8c3d268
DTSTART;VALUE=DATE:20210828
DTEND;VALUE=DATE:20210828
DESCRIPTION:Central Wisconsin BMX
LOCATION:2220 E Riverview Expy\,  Wisconsin Rapids WI 54494 USA
SUMMARY:Earned Double
URL:/site/bmx_races/462686
END:VEVENT
END:VCALENDAR
