BEGIN:VCALENDAR
VERSION:2.0
PRODID:icalendar-ruby
CALSCALE:GREGORIAN
METHOD:PUBLISH
BEGIN:VEVENT
DTSTAMP:20260424T234059Z
UID:1d2f762b-f84a-4d6f-a3f6-a2f519467dfc
DTSTART;VALUE=DATE:20210225
DTEND;VALUE=DATE:20210225
DESCRIPTION:Silver Dollar BMX
LOCATION:2352 Dr. Martin Luther King Jr. Parkway  Chico CA 95928 USA
SUMMARY:Local Race Single
URL:/site/bmx_races/462537
END:VEVENT
END:VCALENDAR
